BEGIN:VCALENDAR
VERSION:2.0
PRODID:-//VFW Post 2197 - ECPv6.15.20//NONSGML v1.0//EN
CALSCALE:GREGORIAN
METHOD:PUBLISH
X-WR-CALNAME:VFW Post 2197
X-ORIGINAL-URL:https://vfw2197.com
X-WR-CALDESC:Events for VFW Post 2197
REFRESH-INTERVAL;VALUE=DURATION:PT1H
X-Robots-Tag:noindex
X-PUBLISHED-TTL:PT1H
BEGIN:VTIMEZONE
TZID:America/New_York
BEGIN:DAYLIGHT
TZOFFSETFROM:-0500
TZOFFSETTO:-0400
TZNAME:EDT
DTSTART:20250309T070000
END:DAYLIGHT
BEGIN:STANDARD
TZOFFSETFROM:-0400
TZOFFSETTO:-0500
TZNAME:EST
DTSTART:20251102T060000
END:STANDARD
BEGIN:DAYLIGHT
TZOFFSETFROM:-0500
TZOFFSETTO:-0400
TZNAME:EDT
DTSTART:20260308T070000
END:DAYLIGHT
BEGIN:STANDARD
TZOFFSETFROM:-0400
TZOFFSETTO:-0500
TZNAME:EST
DTSTART:20261101T060000
END:STANDARD
BEGIN:DAYLIGHT
TZOFFSETFROM:-0500
TZOFFSETTO:-0400
TZNAME:EDT
DTSTART:20270314T070000
END:DAYLIGHT
BEGIN:STANDARD
TZOFFSETFROM:-0400
TZOFFSETTO:-0500
TZNAME:EST
DTSTART:20271107T060000
END:STANDARD
END:VTIMEZONE
BEGIN:VEVENT
DTSTART;TZID=America/New_York:20260411T000000
DTEND;TZID=America/New_York:20260411T220000
DTSTAMP:20260423T181256
CREATED:20260215T161206Z
LAST-MODIFIED:20260215T161737Z
UID:5970-1775865600-1775944800@vfw2197.com
SUMMARY:Council of Administration Meetings and Testimonial
DESCRIPTION:State Commander Amy H. Meuchel Testimonial  \n\n\n\nDate & Time: April 11\, 2026  \n\n\n\nSocial Hour – 6:00 Banquet – 7:00 pm  \n\n\n\nDeadline is: 27 Mar 2026 \n\n\n\nHotel Information Best Western Merry Manor Inn\,  \n\n\n\n700 Main Street\, SO. Portland\, ME $114 per night + tax\, including breakfast * Tel: 207-774-6151  \n\n\n\nDeadline: March 20th \n\n\n\nOnline Registration for the Banquet:  https://www.zeffy.com/en-US/ticketing/council-of-administration-event-2
URL:https://vfw2197.com/event/council-of-administration-meetings-and-testimonial
LOCATION:Best Western Merry Manor Inn\, 700 Main Street\, SO. Portland\, ME\, 04106\, United States
END:VEVENT
BEGIN:VEVENT
DTSTART;TZID=America/New_York:20260418T180000
DTEND;TZID=America/New_York:20260418T220000
DTSTAMP:20260423T181256
CREATED:20260320T150736Z
LAST-MODIFIED:20260320T153020Z
UID:6035-1776535200-1776549600@vfw2197.com
SUMMARY:AMVET Post #33 Spring Dance
DESCRIPTION:Spring Dance\, 50/50 Raffle\, Door Prize\, DJ\, Karaoke. April 18 from 6 to 10 pm at AMVETS Post #33\, 111 Main Street\, Jay\, MECall 207-500-1417 fir tickets and/or More information \n\n\n\nSpring Dance\, 50/50 Raffle\, Door Prize\, DJ\, Karaoke. April 18 from 6 to 10 pm at AMVETS Post #33\, 111 Main Street\, Jay\, MECall 207-500-1417 fir tickets and/or More information
URL:https://vfw2197.com/event/spring-dance
LOCATION:AMVET Post #33\, 111 Main Street\, Jay\, Maine\, United States
CATEGORIES:Recreation Events
ATTACH;FMTTYPE=image/jpeg:https://vfw2197.com/wp-content/uploads/2026/03/AMVET-Dance.jpg
END:VEVENT
BEGIN:VEVENT
DTSTART;TZID=America/New_York:20260429T090000
DTEND;TZID=America/New_York:20260429T140000
DTSTAMP:20260423T181256
CREATED:20260410T211539Z
LAST-MODIFIED:20260410T213124Z
UID:6083-1777453200-1777471200@vfw2197.com
SUMMARY:Homeless Veterans Stand Down
DESCRIPTION:Homeless Veterans Stand Down Saco
URL:https://vfw2197.com/event/homeless-veterans-stand-down
LOCATION:Voa Northern New England\, 335 Lincoln Street\, Saco\, Maine\, 04072\, United States
END:VEVENT
BEGIN:VEVENT
DTSTART;TZID=America/New_York:20260502T090000
DTEND;TZID=America/New_York:20260502T140000
DTSTAMP:20260423T181256
CREATED:20260410T210330Z
LAST-MODIFIED:20260410T210334Z
UID:6078-1777712400-1777730400@vfw2197.com
SUMMARY:Day of Service at Shaw’s in Brunswick and Wiscasset
DESCRIPTION:Saturday\, May 2 nd @ Shaw’s in Brunswick and Wiscasset for Midcoast Hunger Preventionand Wiscasset food pantry.
URL:https://vfw2197.com/event/day-of-service-at-shaws-in-brunswick-and-wiscasset
LOCATION:Cooks Corner Shaws\, 147 Bath Rd\, Brunswick\, ME 04011\, Brunswick\, Maine\, 04011\, United States
ORGANIZER;CN="VFW 2197 Topsham":MAILTO:vfwpost2197@gmail.om
END:VEVENT
BEGIN:VEVENT
DTSTART;TZID=America/New_York:20260506T180000
DTEND;TZID=America/New_York:20260506T200000
DTSTAMP:20260423T181256
CREATED:20260423T214821Z
LAST-MODIFIED:20260423T214934Z
UID:6130-1778090400-1778097600@vfw2197.com
SUMMARY:Reception For Our National VOD Winner Olivia
DESCRIPTION:Comrades\, \n\n\n\nThe Bath City Council is hosting a public reception for our National Voice of Democracy Winner\, Olivia Drewniak\, at the Bath City Hall @ 6pm on May 6th.   \n\n\n\nAll department and auxiliary members and families are welcome to attend. \n\n\n\nIf\, you come\, please wear your VFW/Auxiliary cover\, this is a truly proud moment for our Department\, District 7\, and our comrades at the Bath Post. \n\n\n\nBath City Hall\, 55 Front St. \n\n\n\nCarl LambertDepartment of Maine VFWAdjutant
URL:https://vfw2197.com/event/reception-for-our-national-vod-winner-olivia
LOCATION:Bath City Hall\, 55 Front St.\, Bath\, Maine\, 04530\, United States
END:VEVENT
BEGIN:VEVENT
DTSTART;TZID=America/New_York:20260523T090000
DTEND;TZID=America/New_York:20260523T160000
DTSTAMP:20260423T181256
CREATED:20260410T215627Z
LAST-MODIFIED:20260410T215630Z
UID:6116-1779526800-1779552000@vfw2197.com
SUMMARY:Buddy Poppies
DESCRIPTION:May 23rd & second date is Saturday\, Nov 7th. Both will beheld at Market Basket in Topsham upon approvalfrom management.
URL:https://vfw2197.com/event/buddy-poppies
LOCATION:Brunswick Market Basket\, 169 Topsham Fair Mall Rd\, Topsham\, Maine\, 04086-1819\, United States
ORGANIZER;CN="VFW 2197 Topsham":MAILTO:vfwpost2197@gmail.om
END:VEVENT
BEGIN:VEVENT
DTSTART;TZID=America/New_York:20260527T090000
DTEND;TZID=America/New_York:20260527T140000
DTSTAMP:20260423T181256
CREATED:20260410T212240Z
LAST-MODIFIED:20260410T213039Z
UID:6088-1779872400-1779890400@vfw2197.com
SUMMARY:Homeless Veterans Stand Down
DESCRIPTION:Homeless Veterans Stand Down Presque Isle
URL:https://vfw2197.com/event/homeless-veterans-stand-down-2
LOCATION:Hope and Prosperity Resource Center\, 1 Edgemont Drive\, Presque Isle\, Maine\, 04769\, United States
END:VEVENT
BEGIN:VEVENT
DTSTART;TZID=America/New_York:20260606T180000
DTEND;TZID=America/New_York:20260606T190000
DTSTAMP:20260423T181256
CREATED:20260423T220026Z
LAST-MODIFIED:20260423T220029Z
UID:6135-1780768800-1780772400@vfw2197.com
SUMMARY:105th STATE CONVENTION BANQUET
DESCRIPTION:105th STATE CONVENTION BANQUETSunday River Resort97 Summit RD\, Newry\, ME 04261Saturday\, June 6\, 2026SOCIAL HOUR: 6:00 pm to 7:00 pm – BANQUET: 7:00 pm \n\n\n\n\n\n\n\nSunday River Grand Summit – 97 Summit RD\, Newry\, ME 800-543-2754 use code 86I7AFVFW Rate: $ 173 + tax per night (Double/Double) Studio $155+tax per nightDEADLINE to reserve rooms under this rate is May 5th\, 2026 \n\n\n\n\n\n\n\nTickets are $ 55.00 per personMenu – Choice of:Buffet StyleBeef Tip Shepards PieBrown Sugar BBQ Glaze Chicken BreastNew England Baked HaddockItalian Herb Roasted PotatoRoasted CauliflowerLemon Butter BroccoliCakeRollsCash BarAttire: Suit/Business Attire \n\n\n\nonline Banquet Tickets
URL:https://vfw2197.com/event/105th-state-convention-banquet
LOCATION:Sunday River Grand Summit\, 97 Summit RD\, Newry\, Maine\, United States
END:VEVENT
BEGIN:VEVENT
DTSTART;TZID=America/New_York:20260620T080000
DTEND;TZID=America/New_York:20260620T170000
DTSTAMP:20260423T181256
CREATED:20260410T210742Z
LAST-MODIFIED:20260410T210745Z
UID:6080-1781942400-1781974800@vfw2197.com
SUMMARY:Tractor Supply Expo
DESCRIPTION:Tractor Supply Expo on June 20 th : Gary Ouellette volunteered to help organize the expo and reach out to possible vendors.
URL:https://vfw2197.com/event/tractor-supply-expo
LOCATION:Tractor Supply\, 24 Farley Rd\, Brunswick\, Maine\, 04011\, United States
ORGANIZER;CN="VFW 2197 Topsham":MAILTO:vfwpost2197@gmail.om
END:VEVENT
BEGIN:VEVENT
DTSTART;TZID=America/New_York:20260722T090000
DTEND;TZID=America/New_York:20260722T140000
DTSTAMP:20260423T181256
CREATED:20260410T212547Z
LAST-MODIFIED:20260410T213007Z
UID:6092-1784710800-1784728800@vfw2197.com
SUMMARY:Homeless Veterans Stand Down
DESCRIPTION:Homeless Veterans Stand Down Lewiston
URL:https://vfw2197.com/event/homeless-veterans-stand-down-3
LOCATION:Veterans Memorial Park\, 2-20 Main Street\, Lewiston\, Maine\, United States
END:VEVENT
BEGIN:VEVENT
DTSTART;TZID=America/New_York:20260724T080000
DTEND;TZID=America/New_York:20260726T170000
DTSTAMP:20260423T181256
CREATED:20260423T221033Z
LAST-MODIFIED:20260423T221036Z
UID:6139-1784880000-1785085200@vfw2197.com
SUMMARY:127TH VFW NATIONAL CONVENTION
DESCRIPTION:Our National Convention is 25-29 July in Reno\, Nevada. On March 28th 12pm CST\, hotel room reservations will open for everyone. \n\n\n\nEarly registration takes place at the hotels.Scooter rental will be available. We are working on coordinating those details with the city at this time.The hotels that we have booked have an airport shuttle and self-parking included.All members who desire to make room reservations for the convention are directed to use one ofthe following procedures:1) Online: It’s the quickest and easiest way to book a room and we highly encourage allreservations to be made this way. Visit the Booking Link to make any individualreservations.2) By phone: 800-223-7277 for all 3 propertiesSilver Legacy Resort (VFW HQ): 775-329-4777; Group Code: SRVFW6Eldorado Resort (Auxiliary HQ): 775-786-5700; Group Code: SRVFW6Circus Circus Hotel & Casino: 775-329-0711; Group Code: SRVFW6D \n\n\n\nDepartments will not be assigned to specific hotels this year so it will be first come first served. All the hotels are attached to each other so it will be easy to get around either way. \n\n\n\nThe hotels at the row are about 3.5 miles away from the center. We have a shuttle service setup to run during convention hours. There will be one designated pickup point for all three properties. \n\n\n\nEarly registration takes place at the hotels. \n\n\n\nScooter rental will be available. We are working on coordinating those details with the city at this time. \n\n\n\nThe hotels that we have booked have an airport shuttle and self-parking included.
URL:https://vfw2197.com/event/127th-vfw-national-convention
END:VEVENT
BEGIN:VEVENT
DTSTART;TZID=America/New_York:20260819T090000
DTEND;TZID=America/New_York:20260819T140000
DTSTAMP:20260423T181256
CREATED:20260410T212817Z
LAST-MODIFIED:20260410T212820Z
UID:6094-1787130000-1787148000@vfw2197.com
SUMMARY:Homeless Veterans Stand Down
DESCRIPTION:Homeless Veterans Stand Down Bangor
URL:https://vfw2197.com/event/homeless-veterans-stand-down-4
LOCATION:Tri-County Career Center\, 45 Oak Street #3\, Bangor\, Maine\, 04401\, United States
END:VEVENT
BEGIN:VEVENT
DTSTART;TZID=America/New_York:20260909T090000
DTEND;TZID=America/New_York:20260909T140000
DTSTAMP:20260423T181256
CREATED:20260410T213725Z
LAST-MODIFIED:20260410T213728Z
UID:6103-1788944400-1788962400@vfw2197.com
SUMMARY:Homeless Veterans Stand Down
DESCRIPTION:Homeless Veterans Stand Down Rumford
URL:https://vfw2197.com/event/homeless-veterans-stand-down-5
LOCATION:Rumford American Legion\, 184 Congress St.\,\, Rumford\, Maine\, 04276\, United States
END:VEVENT
BEGIN:VEVENT
DTSTART;TZID=America/New_York:20260923T090000
DTEND;TZID=America/New_York:20260923T140000
DTSTAMP:20260423T181256
CREATED:20260410T214142Z
LAST-MODIFIED:20260410T214145Z
UID:6107-1790154000-1790172000@vfw2197.com
SUMMARY:Homeless Veterans Stand Down
DESCRIPTION:Homeless Veterans Stand Down Augusta
URL:https://vfw2197.com/event/homeless-veterans-stand-down-6
LOCATION:Mills Park\, 2-32 ME-104\, Augusta\, Maine\, 04330\, United States
END:VEVENT
BEGIN:VEVENT
DTSTART;TZID=America/New_York:20261014T090000
DTEND;TZID=America/New_York:20261014T140000
DTSTAMP:20260423T181256
CREATED:20260410T214554Z
LAST-MODIFIED:20260410T214710Z
UID:6111-1791968400-1791986400@vfw2197.com
SUMMARY:Homeless Veterans Stand Down
DESCRIPTION:Homeless Veterans Stand Down Gorham
URL:https://vfw2197.com/event/homeless-veterans-stand-down-7
LOCATION:University of Southern Maine\, 37 College Ave\, Gorham\, Maine\, 04038\, United States
END:VEVENT
BEGIN:VEVENT
DTSTART;TZID=America/New_York:20261028T090000
DTEND;TZID=America/New_York:20261028T140000
DTSTAMP:20260423T181256
CREATED:20260410T224031Z
LAST-MODIFIED:20260410T224034Z
UID:6120-1793178000-1793196000@vfw2197.com
SUMMARY:Homeless Stand Down
DESCRIPTION:Wednesday\, October 28: Mid-Coast Veteran’s Resource Center/Brunswick Landing. 62 Pegasus St\, Brunswick\, ME 04011
URL:https://vfw2197.com/event/homeless-stand-down
LOCATION:Mid-Coast Veterans Resource Center\, 62 Pegasus St # 101\, Brunswick\, Maine\, 04011\, United States
END:VEVENT
BEGIN:VEVENT
DTSTART;TZID=America/New_York:20261107T090000
DTEND;TZID=America/New_York:20261107T160000
DTSTAMP:20260423T181256
CREATED:20260410T215917Z
LAST-MODIFIED:20260410T215920Z
UID:6118-1794042000-1794067200@vfw2197.com
SUMMARY:Buddy Poppies
DESCRIPTION:May 23rd & second date is Saturday\, Nov 7th. Both will beheld at Market Basket in Topsham upon approvalfrom management.
URL:https://vfw2197.com/event/buddy-poppies-2
LOCATION:Brunswick Market Basket\, 169 Topsham Fair Mall Rd\, Topsham\, Maine\, 04086-1819\, United States
ORGANIZER;CN="VFW 2197 Topsham":MAILTO:vfwpost2197@gmail.om
END:VEVENT
END:VCALENDAR